BEGIN:VCALENDAR
VERSION:2.0
PRODID:-//Squarespace Inc/Squarespace 6//v6//EN
BEGIN:VEVENT
UID:5995c309bf629a163fc3bce0@squarespace.com
DTSTAMP:20170822T163559Z
DTSTART:20180211T180000Z
DTEND:20180211T230000Z
SUMMARY:THERION
END:VEVENT
END:VCALENDAR
