BEGIN:VCALENDAR
VERSION:2.0
PRODID:-//Squarespace Inc/Squarespace 6//v6//EN
BEGIN:VEVENT
UID:595401e436e5d3d689e1d8e9@squarespace.com
DTSTAMP:20171017T122407Z
DTSTART:20171017T183000Z
DTEND:20171017T223000Z
SUMMARY:THE HORRORS
END:VEVENT
END:VCALENDAR
