BEGIN:VCALENDAR
VERSION:2.0
PRODID:-//Squarespace Inc/Squarespace 6//v6//EN
BEGIN:VEVENT
UID:59c2a82412abd90221ca7667@squarespace.com
DTSTAMP:20171002T083530Z
DTSTART:20180214T190000Z
DTEND:20180214T230000Z
SUMMARY:$UICIDEBOY$
END:VEVENT
END:VCALENDAR
