BEGIN:VCALENDAR
VERSION:2.0
PRODID:-//Squarespace Inc/Squarespace 6//v6//EN
BEGIN:VEVENT
UID:59e89dec268b9653c5ff8365@squarespace.com
DTSTAMP:20171019T124925Z
DTSTART:20180315T180000Z
DTEND:20180315T234500Z
SUMMARY:SEPULTURA
END:VEVENT
END:VCALENDAR
