BEGIN:VCALENDAR
VERSION:2.0
PRODID:-//Squarespace Inc/Squarespace 6//v6//EN
BEGIN:VEVENT
UID:59f25f569140b7ad7e9c5956@squarespace.com
DTSTAMP:20171026T222208Z
DTSTART:20180310T183000Z
DTEND:20180310T233000Z
SUMMARY:SATYRICON
END:VEVENT
END:VCALENDAR
