BEGIN:VCALENDAR
VERSION:2.0
PRODID:-//Squarespace Inc/Squarespace 6//v6//EN
BEGIN:VEVENT
UID:59afcaa237c5817a20ccf18b@squarespace.com
DTSTAMP:20170918T160234Z
DTSTART:20171202T200000Z
DTEND:20171202T230000Z
SUMMARY:PERFUME GENIUS
END:VEVENT
END:VCALENDAR
