BEGIN:VCALENDAR
VERSION:2.0
PRODID:-//Squarespace Inc/Squarespace 6//v6//EN
BEGIN:VEVENT
UID:59637e7117bffcb9260b54de@squarespace.com
DTSTAMP:20170719T134229Z
DTSTART:20170718T183000Z
DTEND:20170718T224500Z
SUMMARY:PARTY FOR AVA
END:VEVENT
END:VCALENDAR
