BEGIN:VCALENDAR
VERSION:2.0
PRODID:-//Squarespace Inc/Squarespace 6//v6//EN
BEGIN:VEVENT
UID:59df3728cf81e02d88b72d1c@squarespace.com
DTSTAMP:20171024T101457Z
DTSTART:20180221T190000Z
DTEND:20180221T230000Z
SUMMARY:PARADISE LOST
END:VEVENT
END:VCALENDAR
