BEGIN:VCALENDAR
VERSION:2.0
PRODID:-//Squarespace Inc/Squarespace 6//v6//EN
BEGIN:VEVENT
UID:59aeae89e5dd5b60a9dece2d@squarespace.com
DTSTAMP:20170918T160153Z
DTSTART:20171007T180000Z
DTEND:20171007T220000Z
SUMMARY:OVER THE TOP WRESTLING
END:VEVENT
END:VCALENDAR
