BEGIN:VCALENDAR
VERSION:2.0
PRODID:-//Squarespace Inc/Squarespace 6//v6//EN
BEGIN:VEVENT
UID:59df3337268b96c326c665d6@squarespace.com
DTSTAMP:20171024T101530Z
DTSTART:20171104T190000Z
DTEND:20171104T220000Z
SUMMARY:OVER THE TOP WRESTLING
END:VEVENT
END:VCALENDAR
