BEGIN:VCALENDAR
VERSION:2.0
PRODID:-//Squarespace Inc/Squarespace 6//v6//EN
BEGIN:VEVENT
UID:59540369b8a79b250e38e311@squarespace.com
DTSTAMP:20171025T101143Z
DTSTART:20171128T190000Z
DTEND:20171128T230000Z
SUMMARY:FRANK CARTER & THE RATTLESNAKES
END:VEVENT
END:VCALENDAR
