BEGIN:VCALENDAR
VERSION:2.0
PRODID:-//Squarespace Inc/Squarespace 6//v6//EN
BEGIN:VEVENT
UID:594fdaf6ff7c5048d6ece741@squarespace.com
DTSTAMP:20170721T100024Z
DTSTART:20171028T164500Z
DTEND:20171028T224500Z
SUMMARY:FOZZY + HARDCORE SUPERSTAR
END:VEVENT
END:VCALENDAR
