BEGIN:VCALENDAR
VERSION:2.0
PRODID:-//Squarespace Inc/Squarespace 6//v6//EN
BEGIN:VEVENT
UID:597f2b32cd39c3dd4429c22d@squarespace.com
DTSTAMP:20171017T144418Z
DTSTART:20180410T173000Z
DTEND:20180410T220000Z
SUMMARY:EPICA
END:VEVENT
END:VCALENDAR
