BEGIN:VCALENDAR
VERSION:2.0
PRODID:-//Squarespace Inc/Squarespace 6//v6//EN
BEGIN:VEVENT
UID:59bfddf951a584992abaaa99@squarespace.com
DTSTAMP:20171019T101242Z
DTSTART:20180518T180000Z
DTEND:20180518T220000Z
SUMMARY:CLAP YOUR HANDS SAY YEAH
END:VEVENT
END:VCALENDAR
