BEGIN:VCALENDAR
VERSION:2.0
PRODID:-//Squarespace Inc/Squarespace 6//v6//EN
BEGIN:VEVENT
UID:59c2a6629f8dcee79792e623@squarespace.com
DTSTAMP:20170927T110813Z
DTSTART:20180320T200000Z
DTEND:20180320T230000Z
SUMMARY:CANNIBAL CORPSE
END:VEVENT
END:VCALENDAR
