BEGIN:VCALENDAR
VERSION:2.0
PRODID:-//Squarespace Inc/Squarespace 6//v6//EN
BEGIN:VEVENT
UID:59fbcf59419202d5db1e0c00@squarespace.com
DTSTAMP:20171103T021219Z
DTSTART:20180407T180000Z
DTEND:20180407T220000Z
SUMMARY:BLACK LABEL SOCIETY
END:VEVENT
END:VCALENDAR
