BEGIN:VCALENDAR
VERSION:2.0
PRODID:-//Squarespace Inc/Squarespace 6//v6//EN
BEGIN:VEVENT
UID:59df34bbf9a61ecf2432c5d5@squarespace.com
DTSTAMP:20171024T101511Z
DTSTART:20180216T180000Z
DTEND:20180216T230000Z
SUMMARY:ALESTORM
END:VEVENT
END:VCALENDAR
