BEGIN:VCALENDAR
VERSION:2.0
PRODID:-//Squarespace Inc/Squarespace 6//v6//EN
BEGIN:VEVENT
UID:59edbd56e45a7c27e9411f99@squarespace.com
DTSTAMP:20171024T101634Z
DTSTART:20180302T193000Z
DTEND:20180302T233000Z
SUMMARY:DJANGO DJANGO
END:VEVENT
END:VCALENDAR
