BEGIN:VCALENDAR
VERSION:2.0
PRODID:-//Squarespace Inc/Squarespace 6//v6//EN
BEGIN:VEVENT
UID:59762617414fb5f8abaed4ce@squarespace.com
DTSTAMP:20170906T151952Z
DTSTART:20180126T200000Z
DTEND:20180126T220000Z
SUMMARY:TRIXIE MATTEL - 'NOW WITH MOVING PARTS'
END:VEVENT
END:VCALENDAR
