BEGIN:VCALENDAR
VERSION:2.0
PRODID:-//Squarespace Inc/Squarespace 6//v6//EN
BEGIN:VEVENT
UID:5991cc1af14aa1aa7e952fee@squarespace.com
DTSTAMP:20170906T151910Z
DTSTART:20170907T160000Z
DTEND:20170907T180000Z
SUMMARY:TANA MONGEAU
END:VEVENT
END:VCALENDAR
