BEGIN:VCALENDAR
VERSION:2.0
PRODID:-//Squarespace Inc/Squarespace 6//v6//EN
BEGIN:VEVENT
UID:594fed67d482e9221ac8cc60@squarespace.com
DTSTAMP:20171011T134036Z
DTSTART:20171207T110000Z
DTEND:20180114T200000Z
SUMMARY:SLEEPING BEAUTY CHEERIOS PANTO
END:VEVENT
END:VCALENDAR
