BEGIN:VCALENDAR
VERSION:2.0
PRODID:-//Squarespace Inc/Squarespace 6//v6//EN
BEGIN:VEVENT
UID:5978e82cf7e0ab751a2b3c2d@squarespace.com
DTSTAMP:20170811T100132Z
DTSTART:20171124T193000Z
DTEND:20171124T210000Z
SUMMARY:PUSH
END:VEVENT
END:VCALENDAR
