BEGIN:VCALENDAR
VERSION:2.0
PRODID:-//Squarespace Inc/Squarespace 6//v6//EN
BEGIN:VEVENT
UID:594fd6a4e58c6247579000ec@squarespace.com
DTSTAMP:20170906T152006Z
DTSTART:20180305T193000Z
DTEND:20180305T213000Z
SUMMARY:LUKE DANSKIN
END:VEVENT
END:VCALENDAR
