BEGIN:VCALENDAR
VERSION:2.0
PRODID:-//Squarespace Inc/Squarespace 6//v6//EN
BEGIN:VEVENT
UID:594c0188893fc0c769ad8698@squarespace.com
DTSTAMP:20170811T162544Z
DTSTART:20171003T190000Z
DTEND:20171004T213000Z
SUMMARY:JOHNNY CASH ROADSHOW
END:VEVENT
END:VCALENDAR
