BEGIN:VCALENDAR
VERSION:2.0
PRODID:-//Squarespace Inc/Squarespace 6//v6//EN
BEGIN:VEVENT
UID:594fd8cfe3df282d44b1fdb8@squarespace.com
DTSTAMP:20171005T115037Z
DTSTART:20171110T200000Z
DTEND:20171111T200000Z
SUMMARY:FRANKIE'S GUYS
END:VEVENT
END:VCALENDAR
