BEGIN:VCALENDAR
VERSION:2.0
PRODID:-//Squarespace Inc/Squarespace 6//v6//EN
BEGIN:VEVENT
UID:5978ecab6a49638cf1990546@squarespace.com
DTSTAMP:20170811T100247Z
DTSTART:20170921T190000Z
DTEND:20170921T210000Z
SUMMARY:DISTRACTION PIECES PODCAST w/ SCROOBIUS PIP
END:VEVENT
END:VCALENDAR
