BEGIN:VCALENDAR
VERSION:2.0
PRODID:-//Squarespace Inc/Squarespace 6//v6//EN
BEGIN:VEVENT
UID:59df2d6e32601ead7f58db08@squarespace.com
DTSTAMP:20171012T091633Z
DTSTART:20171013T140000Z
DTEND:20171014T100000Z
SUMMARY:Deptcon 3
END:VEVENT
END:VCALENDAR
