BEGIN:VCALENDAR
VERSION:2.0
PRODID:-//Squarespace Inc/Squarespace 6//v6//EN
BEGIN:VEVENT
UID:59f25e1b109526b62a5a159f@squarespace.com
DTSTAMP:20171026T221817Z
DTSTART:20171123T200000Z
DTEND:20171123T213000Z
SUMMARY:DAVID GUAPO
END:VEVENT
END:VCALENDAR
