BEGIN:VCALENDAR
VERSION:2.0
PRODID:-//Squarespace Inc/Squarespace 6//v6//EN
BEGIN:VEVENT
UID:59bfec2446c3c480b7cc6092@squarespace.com
DTSTAMP:20170919T101913Z
DTSTART:20180309T200000Z
DTEND:20180309T230000Z
SUMMARY:CIRCUS JUST GOT SEXY: FORBIDDEN NIGHTS
END:VEVENT
END:VCALENDAR
