BEGIN:VCALENDAR
VERSION:2.0
PRODID:-//Squarespace Inc/Squarespace 6//v6//EN
BEGIN:VEVENT
UID:5975e80df7e0ab04b3b4dd4f@squarespace.com
DTSTAMP:20171019T090724Z
DTSTART:20180217T200000Z
DTEND:20180218T200000Z
SUMMARY:BEATLEMANIA
END:VEVENT
END:VCALENDAR
