BEGIN:VCALENDAR
VERSION:2.0
PRODID:-//Squarespace Inc/Squarespace 6//v6//EN
BEGIN:VEVENT
UID:5978eb7d37c5810a5cf3a600@squarespace.com
DTSTAMP:20170811T100305Z
DTSTART:20170922T183000Z
DTEND:20170922T203000Z
SUMMARY:AN IRISHMAN ABROAD w/ JARLATH REGAN
END:VEVENT
END:VCALENDAR
