BEGIN:VCALENDAR
VERSION:2.0
PRODID:-//Squarespace Inc/Squarespace 6//v6//EN
BEGIN:VEVENT
UID:594fd5eedb29d60c59786c51@squarespace.com
DTSTAMP:20170629T134702Z
DTSTART:20170807T190000Z
DTEND:20170807T220000Z
SUMMARY:ALWAYS AND FOREVER
END:VEVENT
END:VCALENDAR
